BEGIN:VCALENDAR
VERSION:2.0
PRODID:-//John Veldthuis Blog - ECPv4.6.9//NONSGML v1.0//EN
CALSCALE:GREGORIAN
METHOD:PUBLISH
X-WR-CALNAME:John Veldthuis Blog
X-ORIGINAL-URL:http://jv.net.nz/blog
X-WR-CALDESC:Events for John Veldthuis Blog
BEGIN:VEVENT
DTSTART;TZID=Pacific/Auckland:20171007T130000
DTEND;TZID=Pacific/Auckland:20171008T130000
DTSTAMP:20180122T100238
CREATED:20170728T212929Z
LAST-MODIFIED:20170728T212929Z
UID:508-1507381200-1507467600@jv.net.nz
SUMMARY:North Island 1600
DESCRIPTION:Yes\, the much-awaited 2017 Distance Riding Season will kick off again in Turangi this spring. \nThis year will be our fourth 1\,600km ride \nKeeping true to our tradition of “Surprise”\, the routes won’t be named until the Friday evening prior to the starts on the Saturday immediately following. \nEntry forms are up ready for your completion and the provision of the necessary entry fees. \n
URL:http://jv.net.nz/blog/event/north-island-1600/
LOCATION:13 Te Reiti Tamara Grove\, Turangi\, 3334\, New Zealand
CATEGORIES:Distance Riders,Iron Butt,NI1600
ORGANIZER;CN="NZ%20Distance%20Riders":MAILTO:distanceriders@gmail.com
END:VEVENT
END:VCALENDAR