BEGIN:VCALENDAR
VERSION:2.0
PRODID:-//John Veldthuis Blog - ECPv6.15.17.1//NONSGML v1.0//EN
CALSCALE:GREGORIAN
METHOD:PUBLISH
X-WR-CALNAME:John Veldthuis Blog
X-ORIGINAL-URL:https://jv.net.nz/blog
X-WR-CALDESC:Events for John Veldthuis Blog
REFRESH-INTERVAL;VALUE=DURATION:PT1H
X-Robots-Tag:noindex
X-PUBLISHED-TTL:PT1H
BEGIN:VTIMEZONE
TZID:Pacific/Auckland
BEGIN:STANDARD
TZOFFSETFROM:+1300
TZOFFSETTO:+1200
TZNAME:NZST
DTSTART:20160402T140000
END:STANDARD
BEGIN:DAYLIGHT
TZOFFSETFROM:+1200
TZOFFSETTO:+1300
TZNAME:NZDT
DTSTART:20160924T140000
END:DAYLIGHT
BEGIN:STANDARD
TZOFFSETFROM:+1300
TZOFFSETTO:+1200
TZNAME:NZST
DTSTART:20170401T140000
END:STANDARD
BEGIN:DAYLIGHT
TZOFFSETFROM:+1200
TZOFFSETTO:+1300
TZNAME:NZDT
DTSTART:20170923T140000
END:DAYLIGHT
BEGIN:STANDARD
TZOFFSETFROM:+1300
TZOFFSETTO:+1200
TZNAME:NZST
DTSTART:20180331T140000
END:STANDARD
BEGIN:DAYLIGHT
TZOFFSETFROM:+1200
TZOFFSETTO:+1300
TZNAME:NZDT
DTSTART:20180929T140000
END:DAYLIGHT
END:VTIMEZONE
BEGIN:VEVENT
DTSTART;TZID=Pacific/Auckland:20171104T063000
DTEND;TZID=Pacific/Auckland:20171104T220000
DTSTAMP:20260425T005013
CREATED:20170728T214411Z
LAST-MODIFIED:20170728T214411Z
UID:521-1509777000-1509832800@jv.net.nz
SUMMARY:The 1KC Rides
DESCRIPTION:Put Saturday 4 November 2017 in your ride calendars right away! \nThis November will once again see two 1\,000km Cruise rides on the same day – the 1KCs. One will start and finish in Wellington\, the second will start and finish in Hamilton. The routes for each will be different\, with briefing\, instructions and checkpoint information sent to registered riders one week prior to the event. \nPillion riders are allowed on the 1KC. There is no formal scrutineering of machines. Riders are expected to ensure that their bikes are legally roadworthy. \nThese are social rides\, with plenty of opportunities for riders to stop and yack with each other. After-ride hospitality will be available at a pre-arranged venue. There will be commemorative badges and certificates awarded. Proceeds raised will be donated to Muscular Dystrophy New Zealand.
URL:https://jv.net.nz/blog/event/the-1kc-rides/
CATEGORIES:1KC,Distance Riders
ORGANIZER;CN="NZ Distance Riders":MAILTO:distanceriders@gmail.com
END:VEVENT
END:VCALENDAR